BEGIN:VCALENDAR
VERSION:2.0
PRODID:-//Canada Artistic Swimming - ECPv6.15.17.1//NONSGML v1.0//EN
CALSCALE:GREGORIAN
METHOD:PUBLISH
X-WR-CALNAME:Canada Artistic Swimming
X-ORIGINAL-URL:https://artisticswimming.ca
X-WR-CALDESC:Events for Canada Artistic Swimming
REFRESH-INTERVAL;VALUE=DURATION:PT1H
X-Robots-Tag:noindex
X-PUBLISHED-TTL:PT1H
BEGIN:VTIMEZONE
TZID:America/New_York
BEGIN:DAYLIGHT
TZOFFSETFROM:-0500
TZOFFSETTO:-0400
TZNAME:EDT
DTSTART:20230312T070000
END:DAYLIGHT
BEGIN:STANDARD
TZOFFSETFROM:-0400
TZOFFSETTO:-0500
TZNAME:EST
DTSTART:20231105T060000
END:STANDARD
BEGIN:DAYLIGHT
TZOFFSETFROM:-0500
TZOFFSETTO:-0400
TZNAME:EDT
DTSTART:20240310T070000
END:DAYLIGHT
BEGIN:STANDARD
TZOFFSETFROM:-0400
TZOFFSETTO:-0500
TZNAME:EST
DTSTART:20241103T060000
END:STANDARD
BEGIN:DAYLIGHT
TZOFFSETFROM:-0500
TZOFFSETTO:-0400
TZNAME:EDT
DTSTART:20250309T070000
END:DAYLIGHT
BEGIN:STANDARD
TZOFFSETFROM:-0400
TZOFFSETTO:-0500
TZNAME:EST
DTSTART:20251102T060000
END:STANDARD
END:VTIMEZONE
BEGIN:VEVENT
DTSTART;VALUE=DATE:20240202
DTEND;VALUE=DATE:20240211
DTSTAMP:20260424T115717
CREATED:20240129T190918Z
LAST-MODIFIED:20240211T193523Z
UID:16495-1706832000-1707609599@artisticswimming.ca
SUMMARY:2024 WORLD AQUATICS CHAMPIONSHIPS
DESCRIPTION:WORLD CHAMPIONSHIPS NEWS2024/02/11 - Team Canada qualifies for Paris Olympics to cap off historic World Aquatics Championships2024/02/9 - Canada 9th after Team Free Preliminaries at World Championships2024/02/7 - Canada’s Free Duet 5th after preliminaries at World Championships2024/02/7 - Jacqueline Simoneau wins gold in Solo Free at World Aquatics Championships2024/02/6 - Canada 6th in Team Technical at Doha World Championships2024/02/5 - Canada 5th in Team Technical Preliminaries at World Championships2024/02/4 - Canada places fourth in Acrobatic Routine at World Aquatics Championships\n\n\n\n\nLOCAL TIME\nEASTERN TIME\nEVENT\nSTART LIST\nRESULT\nWHERE TO WATCH\n\n\n\n\nFRIDAY – FEBRUARY 2\n\n\n09:30\n01:30\nWomen Solo Technical Prelims\n24/27\nStart List\n3\nResults\nDetailed Results\nWorld Aquatics ($) \n\n\n14:00\n06:00\nWomen Duet Technical Prelims – Group B\n—\n—\nWorld Aquatics ($) \n\n\n20:00\n12:00\nWomen Duet Technical Prelims – Group A\n27/42\nStart List\n8\nResults\nDetailed Results\nWorld Aquatics ($) \n\n\nSATURDAY – FEBRUARY 3\n\n\n14:00\n06:00\nWomen Solo Technical Finals\n10/12\nStart List\nSilver Medal\nResults\nDetailed Results\nCBC\n\n\n20:00\n12:00\nAcrobatic Routine Prelims\n15/19\nStart List\n4\nResults\nDetailed Results\nWorld Aquatics ($) \n\n\nSUNDAY – FEBRUARY 4\n\n\n09:30\n01:30\nWomen Solo Free Prelims\n29/30\nStart List\n3\nResults\nDetailed Results\nWorld Aquatics ($) \n\n\n14:00\n06:00\nAcrobatic Routine Finals\n9/12\nStart List\n4\nResults\nDetailed Results\nCBC / Radio-Canada\n\n\nMONDAY – FEBRUARY 5\n\n\n09:30\n01:30\nTeam Technical Prelims\n7/17\nStart List\n5\nResults\nDetailed Results\nWorld Aquatics ($) \n\n\n14:00\n06:00\nWomen Duet Technical Finals\n5/12\nStart List\n7\nResults\nDetailed Results\nCBC / Radio-Canada\n\n\nTUESDAY – FEBRUARY 6\n\n\n14:00\n06:00\nTeam Technical Finals\n8/12\nStart List\n6\nResults\nDetailed Results\nCBC / Radio-Canada\n\n\n20:00\n12:00\nWomen Solo Free Finals\n10/12\nStart List\nGold Medal\nResults\nDetailed Results\nCBC\n\n\nWEDNESDAY – FEBRUARY 7\n\n\n09:30\n01:30\nWomen Duet Free Prelims – Group B\n4/39\nStart List\n5\nResults\nDetailed Results\nWorld Aquatics ($) \n\n\nTHURSDAY – FEBRUARY 8\n\n\n09:30\n01:30\nTeam Free Prelims\n1/16\nStart List\n9\nResults\nDetailed Results\nWorld Aquatics ($) \n\n\n14:00\n06:00\nWomen Duet Free Finals\n8/12\nStart List\n5\nResults\nDetailed Results\nCBC / Radio-Canada\n\n\nFRIDAY – FEBRUARY 9\n\n\n14:00\n06:00\nTeam Free Finals\n4/12\nStart List\n7\nResults\nDetailed Results\nCBC / Radio-Canada\n\n\nSATURDAY – FEBRUARY 10\n\n\n12:00\n04:00\nGala Exhibition\n—\n—\nWorld Aquatics ($)
URL:https://artisticswimming.ca/event/2024-world-aquatics-championships/
LOCATION:Aspire Dome\, Doha\, Qatar
CATEGORIES:2024
ATTACH;FMTTYPE=image/jpeg:https://artisticswimming.ca/wp-content/uploads/2024/01/2024-Doha-single-event.jpg
END:VEVENT
END:VCALENDAR